Workbook
Name Beginning_Balance: -FV(Home!Interest_Rate/12,Home!Payment_Number-1,-Home!Monthly_Payment,Home!Loan_Amount)
Name Beginning_Balance: -FV(Interest_Rate/12,Payment_Number-1,-Monthly_Payment,Loan_Amount)
Name ColumnTitle1: #REF!
Name ColumnTitle1: Loan[[#Headers],[No.]]
Name ColumnTitle1: Loan[[#Headers],[No.]]
Name ColumnTitle1: Loan[[#Headers],[No.]]
Name Ending_Balance: -FV(Home!Interest_Rate/12,Home!Payment_Number,-Home!Monthly_Payment,Home!Loan_Amount)
Name Ending_Balance: -FV(Interest_Rate/12,Payment_Number,-Monthly_Payment,Loan_Amount)
Name Full_Print: 'Loan Calculator'!$A$1:$H$372
Name Header_Row: ROW(#REF!)
Name Header_Row: ROW('Loan Calculator'!$12:$12)
Name Header_Row_Back: ROW(#REF!)
Name Header_Row_Back: ROW('Loan Calculator'!$12:$12)
Name Interest: -IPMT(Home!Interest_Rate/12,Home!Payment_Number,Home!Number_of_Payments,Home!Loan_Amount)
Name Interest: -IPMT(Interest_Rate/12,Payment_Number,Number_of_Payments,Loan_Amount)
Name Interest_Rate: #REF!
Name Interest_Rate: 'Loan Calculator'!$E$4
Name Last_Row: IF(Home!Values_Entered,Home!Header_Row+Home!Number_of_Payments,Home!Header_Row)
Name Last_Row: IF(Values_Entered,Header_Row+Number_of_Payments,Header_Row)
Name Loan_Amount: #REF!
Name Loan_Amount: 'Loan Calculator'!$E$3
Name Loan_Not_Paid: IF(Home!Payment_Number<=Home!Number_of_Payments,1,0)
Name Loan_Not_Paid: IF(Payment_Number<=Number_of_Payments,1,0)
Name Loan_Start: #REF!
Name Loan_Start: 'Loan Calculator'!$E$6
Name Loan_Years: #REF!
Name Loan_Years: 'Loan Calculator'!$E$5
Name Monthly_Payment: -PMT(Home!Interest_Rate/12,Home!Number_of_Payments,Home!Loan_Amount)
Name Monthly_Payment: -PMT(Interest_Rate/12,Number_of_Payments,Loan_Amount)
Name Number_of_Payments: #REF!
Name Number_of_Payments: 'Loan Calculator'!$E$9
Name Payment_Date: DATE(YEAR(Home!Loan_Start),MONTH(Home!Loan_Start)+Home!Payment_Number,DAY(Home!Loan_Start))
Name Payment_Date: DATE(YEAR(Loan_Start),MONTH(Loan_Start)+Payment_Number,DAY(Loan_Start))
Name Payment_Number: ROW()-Home!Header_Row
Name Payment_Number: ROW()-Header_Row
Name Principal: -PPMT(Home!Interest_Rate/12,Home!Payment_Number,Home!Number_of_Payments,Home!Loan_Amount)
Name Principal: -PPMT(Interest_Rate/12,Payment_Number,Number_of_Payments,Loan_Amount)
Name RowTitleRegion1..E6: 'Loan Calculator'!$B$3
Name RowTitleRegion2..E11: 'Loan Calculator'!$B$8
Name Total_Cost: #REF!
Name Total_Cost: 'Loan Calculator'!$E$11
Name Total_Interest: 'Loan Calculator'!$E$10
Name TVA: #REF!
Name TVA: #REF!
Name TypedeP: #REF!
Name Typedeproduit: #REF!
Name Values_Entered: IF(Home!Loan_Amount*Home!Interest_Rate*Home!Loan_Years*Home!Loan_Start>0,1,0)
Name Values_Entered: IF(Loan_Amount*Interest_Rate*Loan_Years*Loan_Start>0,1,0)

Sheet Home
F10: This tool belongs to the House of Entrepreneurship and is to be used only in collaboration with the latter and/or its partners.
F14: Any usage for commercial purposes without the authorisation of the House of Entrepreneurship is prohibited.
F18: Although this tool has been created with the utmost care, its author accepts no responsibility for eventual errors or omissions. He accepts no responsibility for the use of the information provided.

Sheet INPUT - to fill in
A5: Only fill in the grey cells
A7: " | C7: "
A10: ------------------------------------- DATA OF THE ACTIVITY -----------------------------------------
A13: Project Name
A14: Name of the project owner
A15: Municipality of the registered office | C15: Click here to select from the drop-down list
A16: VAT scheme | C16: Click here to select from the drop-down list | D16: =IF(C16=DATA!A33,DATA!B33,IF('INPUT - to fill in'!C16=DATA!A34,DATA!B34,""))
A17: Please provide a brief description of the project | D17: =IF(C17=DATA!A33,DATA!B33,IF('INPUT - to fill in'!C17=DATA!A34,DATA!B34,""))
A18: Please provide a brief description of the project here | C18: Imposition
A19: Impôt Commercial Communal (ICC) | C19: =IF(AND(C15<>"",C15<>DATA!A49),VLOOKUP(C15,DATA!A50:B180,2,FALSE),"")
A20: Abattement (ICC) | C20: 17500
A21: Impôt sur le Revenu des Collectivitées (IRC) normal | C21: 0.16
A22: Impôt sur le Revenu des Collectivitées (IRC) réduit | C22: 0.14
A23: Plafonds IRC réduit | C23: 175000
A24: Contribution au fond de l'emploi | C24: 0.07
A25: Impôt sur le revenu des personnes physiques | C25: ='OUTPUT - analysis'!D61
A28: ----------------------------------------- INVESTMENTS ---------------------------------------------
F29: Note: cells in column "G" can be overwritten
B31: VAT | C31: Costs details | D31: Price excl. VAT | E31: VAT | F31: Total price incl. VAT | G31: Years of depreciation | H31: Depreciation year 1 | I31: Depreciation year 2 | J31: Depreciation year 3 | K31: Explanation
A33: Incorporation costs | B33: 0.17 | D33: 0 | E33: =D33*B33 -> 0 | F33: =D33+E33 -> 0 | G33: 5 | H33: =IF(G33>0,D33/G33,0) -> 0 | I33: =IF(G33>1,D33/G33,0) -> 0 | J33: =IF(G33>2,D33/G33,0) -> 0 | K33: Fees associated with the creation of the company, registration fees, legal, tax and accounting fees, etc.
A34: Initial establishment costs | B34: 0.17 | D34: 0 | E34: =D34*B34 -> 0 | F34: =D34+E34 -> 0 | G34: 5 | H34: =IF(G34>0,D34/G34,0) -> 0 | I34: =IF(G34>1,D34/G34,0) -> 0 | J34: =IF(G34>2,D34/G34,0) -> 0 | K34: Costs before incorporation of the company for prospecting, advertising, market research, etc.
A35: Research and development costs | B35: 0.17 | D35: 0 | E35: =D35*B35 -> 0 | F35: =D35+E35 -> 0 | G35: 5 | H35: =IF(G35>0,D35/G35,0) -> 0 | I35: =IF(G35>1,D35/G35,0) -> 0 | J35: =IF(G35>2,D35/G35,0) -> 0 | K35: Costs before incorporation for creating a website, designing software, etc.
A36: Concessions, patents, licences and trademarks | B36: 0.17 | D36: 0 | E36: =D36*B36 -> 0 | F36: =D36+E36 -> 0 | G36: 5 | H36: =IF(G36>0,D36/G36,0) -> 0 | I36: =IF(G36>1,D36/G36,0) -> 0 | J36: =IF(G36>2,D36/G36,0) -> 0 | K36: Operating rights, trademarks, patents, copyright, acquired software, active websites
A37: Goodwill | B37: 0.17 | D37: 0 | E37: =D37*B37 -> 0 | F37: =D37+E37 -> 0 | G37: 5 | H37: =IF(G37>0,D37/G37,0) -> 0 | I37: =IF(G37>1,D37/G37,0) -> 0 | J37: =IF(G37>2,D37/G37,0) -> 0 | K37: Acquired business goodwill that cannot be allocated to another fixed asset account; customer files
A38: Land and buildings | B38: 0.17 | D38: 0 | E38: =D38*B38 -> 0 | F38: =D38+E38 -> 0 | G38: 5 | H38: =IF(G38>0,D38/G38,0) -> 0 | I38: =IF(G38>1,D38/G38,0) -> 0 | J38: =IF(G38>2,D38/G38,0) -> 0 | K38: Property and buildings
A39: Transport and maintenance equipment | B39: 0.17 | D39: 0 | E39: =D39*B39 -> 0 | F39: =D39+E39 -> 0 | G39: 5 | H39: =IF(G39>0,D39/G39,0) -> 0 | I39: =IF(G39>1,D39/G39,0) -> 0 | J39: =IF(G39>2,D39/G39,0) -> 0 | K39: Transport equipment
A40: Transport vehicles | B40: 0.17 | D40: 0 | E40: =D40*B40 -> 0 | F40: =D40+E40 -> 0 | G40: 5 | H40: =IF(G40>0,D40/G40,0) -> 0 | I40: =IF(G40>1,D40/G40,0) -> 0 | J40: =IF(G40>2,D40/G40,0) -> 0 | K40: Cars, trucks, bicycles, etc.
A41: Tools | B41: 0.17 | D41: 0 | E41: =D41*B41 -> 0 | F41: =D41+E41 -> 0 | G41: 5 | H41: =IF(G41>0,D41/G41,0) -> 0 | I41: =IF(G41>1,D41/G41,0) -> 0 | J41: =IF(G41>2,D41/G41,0) -> 0 | K41: Small equipment and tools
A42: Operating equipment 1 | B42: 0.17 | D42: 0 | E42: =D42*B42 -> 0 | F42: =D42+E42 -> 0 | G42: 5 | H42: =IF(G42>0,D42/G42,0) -> 0 | I42: =IF(G42>1,D42/G42,0) -> 0 | J42: =IF(G42>2,D42/G42,0) -> 0 | K42: Ovens, kitchens, appliances, tools, machinery, etc.
A43: Operating equipment 2 | B43: 0.17 | D43: 0 | E43: =D43*B43 -> 0 | F43: =D43+E43 -> 0 | G43: 5 | H43: =IF(G43>0,D43/G43,0) -> 0 | I43: =IF(G43>1,D43/G43,0) -> 0 | J43: =IF(G43>2,D43/G43,0) -> 0
A44: Operating equipment 3 | B44: 0.17 | D44: 0 | E44: =D44*B44 -> 0 | F44: =D44+E44 -> 0 | G44: 5 | H44: =IF(G44>0,D44/G44,0) -> 0 | I44: =IF(G44>1,D44/G44,0) -> 0 | J44: =IF(G44>2,D44/G44,0) -> 0
A45: Operating equipment 4 | B45: 0.17 | D45: 0 | E45: =D45*B45 -> 0 | F45: =D45+E45 -> 0 | G45: 5 | H45: =IF(G45>0,D45/G45,0) -> 0 | I45: =IF(G45>1,D45/G45,0) -> 0 | J45: =IF(G45>2,D45/G45,0) -> 0
A46: Furniture 1 | B46: 0.17 | D46: 0 | E46: =D46*B46 -> 0 | F46: =D46+E46 -> 0 | G46: 5 | H46: =IF(G46>0,D46/G46,0) -> 0 | I46: =IF(G46>1,D46/G46,0) -> 0 | J46: =IF(G46>2,D46/G46,0) -> 0 | K46: Furniture and objects such as tables, chairs, folders and desks used in the company.
A47: Furniture 2 | B47: 0.17 | D47: 0 | E47: =D47*B47 -> 0 | F47: =D47+E47 -> 0 | G47: 5 | H47: =IF(G47>0,D47/G47,0) -> 0 | I47: =IF(G47>1,D47/G47,0) -> 0 | J47: =IF(G47>2,D47/G47,0) -> 0
A48: Furniture 3 | B48: 0.17 | D48: 0 | E48: =D48*B48 -> 0 | F48: =D48+E48 -> 0 | G48: 5 | H48: =IF(G48>0,D48/G48,0) -> 0 | I48: =IF(G48>1,D48/G48,0) -> 0 | J48: =IF(G48>2,D48/G48,0) -> 0
A49: Furniture 4 | B49: 0.17 | D49: 0 | E49: =D49*B49 -> 0 | F49: =D49+E49 -> 0 | G49: 5 | H49: =IF(G49>0,D49/G49,0) -> 0 | I49: =IF(G49>1,D49/G49,0) -> 0 | J49: =IF(G49>2,D49/G49,0) -> 0
A50: IT equipment 1 | B50: 0.17 | D50: 0 | E50: =D50*B50 -> 0 | F50: =D50+E50 -> 0 | G50: 5 | H50: =IF(G50>0,D50/G50,0) -> 0 | I50: =IF(G50>1,D50/G50,0) -> 0 | J50: =IF(G50>2,D50/G50,0) -> 0 | K50: All the physical components of a computer and its peripherals
A51: IT equipment 2 | B51: 0.17 | D51: 0 | E51: =D51*B51 -> 0 | F51: =D51+E51 -> 0 | G51: 5 | H51: =IF(G51>0,D51/G51,0) -> 0 | I51: =IF(G51>1,D51/G51,0) -> 0 | J51: =IF(G51>2,D51/G51,0) -> 0
A52: IT equipment 3 | B52: 0.17 | D52: 0 | E52: =D52*B52 -> 0 | F52: =D52+E52 -> 0 | G52: 5 | H52: =IF(G52>0,D52/G52,0) -> 0 | I52: =IF(G52>1,D52/G52,0) -> 0 | J52: =IF(G52>2,D52/G52,0) -> 0
A53: IT equipment 4 | B53: 0.17 | D53: 0 | E53: =D53*B53 -> 0 | F53: =D53+E53 -> 0 | G53: 5 | H53: =IF(G53>0,D53/G53,0) -> 0 | I53: =IF(G53>1,D53/G53,0) -> 0 | J53: =IF(G53>2,D53/G53,0) -> 0
...

Sheet OUTPUT - analysis
P4: Please do not fill in or modify this tab
B6: -------------------------------- PROFIT AND LOSS ------------------------------- | J6: ----------------- FINANCIAL PLAN ---------------------
B8: ANALYSIS OF PROFITABILITY | C8: YEAR 1 | D8: % of TO | E8: YEAR 2 | F8: % of TO | G8: YEAR 3 | H8: % of TO | J8: FINANCIAL PLAN | K8: Start | L8: YEAR 1 | M8: YEAR 2 | N8: YEAR 3
B9: + TURNOVER | C9: ='INPUT - to fill in'!S225 -> 0 | D9: =IF($C$9=0,"",C9/$C$9) | E9: ='INPUT - to fill in'!T225 -> 0 | F9: =IF($E$9=0,"",E9/$E$9) | G9: ='INPUT - to fill in'!U225 -> 0 | H9: =IF($G$9=0,"",G9/$G$9) | J9: TOTAL INVESTMENTS TO FINANCE | K9: =SUM(K10:K17) -> 0 | L9: =SUM(L10:L17) -> 0 | M9: =SUM(M10:M17) -> 0 | N9: =SUM(N10:N17) -> 0
J10: Incorporation Expenses and Related Costs | K10: ='INPUT - to fill in'!D33 -> 0
B11: - PURCHASE OF GOODS | C11: ='INPUT - to fill in'!S227 -> 0 | D11: =IF($C$9=0,"",C11/$C$9) | E11: ='INPUT - to fill in'!T227 -> 0 | F11: =IF($E$9=0,"",E11/$E$9) | G11: ='INPUT - to fill in'!U227 -> 0 | H11: =IF($G$9=0,"",G11/$G$9) | J11: Intangible Assets Intangible Assets | K11: =SUM('INPUT - to fill in'!D34:D37) -> 0
J12: Tangible Assets | K12: =SUM('INPUT - to fill in'!D38:D54) -> 0
B13: = GROSS MARGIN | C13: =C9-C11 -> 0 | D13: =IF($C$9=0,"",C13/$C$9) | E13: =E9-E11 -> 0 | F13: =IF($E$9=0,"",E13/$E$9) | G13: =G9-G11 -> 0 | H13: =IF($G$9=0,"",G13/$G$9) | J13: Financial Assets | K13: =SUM('INPUT - to fill in'!D55:D56) -> 0
J14: Initial Cash / Treasury | K14: ='INPUT - to fill in'!D58 -> 0
B15: - CONSUMPTION FROM THIRD PARTIES | C15: =SUM(C16:C39) -> 0 | D15: =IF($C$9=0,"",C15/$C$9) | E15: =SUM(E16:E39) -> 0 | F15: =IF($E$9=0,"",E15/$E$9) | G15: =SUM(G16:G39) -> 0 | H15: =IF($G$9=0,"",G15/$G$9) | J15: Initial Inventory Buildup | K15: ='INPUT - to fill in'!D57 -> 0
B16: ='INPUT - to fill in'!A70 -> Rental of property | C16: ='INPUT - to fill in'!Q70 -> 0 | D16: =IF($C$9=0,"",C16/$C$9) | E16: ='INPUT - to fill in'!R70 -> 0 | F16: =IF($E$9=0,"",E16/$E$9) | G16: ='INPUT - to fill in'!S70 -> 0 | H16: =IF($G$9=0,"",G16/$G$9) | J16: Recoverable VAT | K16: ='INPUT - to fill in'!E59 -> 0
B17: ='INPUT - to fill in'!A71 -> Rental charges | C17: ='INPUT - to fill in'!Q71 -> 0 | D17: =IF($C$9=0,"",C17/$C$9) | E17: ='INPUT - to fill in'!R71 -> 0 | F17: =IF($E$9=0,"",E17/$E$9) | G17: ='INPUT - to fill in'!S71 -> 0 | H17: =IF($G$9=0,"",G17/$G$9) | J17: Loan Repayment | L17: ='Loan Calculator'!H3 -> 0 | M17: ='Loan Calculator'!H6 -> 0 | N17: ='Loan Calculator'!H9 -> 0
B18: ='INPUT - to fill in'!A72 -> Non-storable bills: water/electricity/gas | C18: ='INPUT - to fill in'!Q72 -> 0 | D18: =IF($C$9=0,"",C18/$C$9) | E18: ='INPUT - to fill in'!R72 -> 0 | F18: =IF($E$9=0,"",E18/$E$9) | G18: ='INPUT - to fill in'!S72 -> 0 | H18: =IF($G$9=0,"",G18/$G$9)
B19: ='INPUT - to fill in'!A73 -> Building taxes | C19: ='INPUT - to fill in'!Q73 -> 0 | D19: =IF($C$9=0,"",C19/$C$9) | E19: ='INPUT - to fill in'!R73 -> 0 | F19: =IF($E$9=0,"",E19/$E$9) | G19: ='INPUT - to fill in'!S73 -> 0 | H19: =IF($G$9=0,"",G19/$G$9) | J19: TOTAL RESOURCES | K19: =SUM(K20:K25) -> 0 | L19: =SUM(L20:L25) -> 0 | M19: =SUM(M20:M25) -> -535 | N19: =SUM(N20:N25) -> -535
B20: ='INPUT - to fill in'!A74 -> Furniture leasing | C20: ='INPUT - to fill in'!Q74 -> 0 | D20: =IF($C$9=0,"",C20/$C$9) | E20: ='INPUT - to fill in'!R74 -> 0 | F20: =IF($E$9=0,"",E20/$E$9) | G20: ='INPUT - to fill in'!S74 -> 0 | H20: =IF($G$9=0,"",G20/$G$9) | J20: Equity contribution / Capital | K20: ='INPUT - to fill in'!C248 -> 0
B21: ='INPUT - to fill in'!A75 -> Subcontracting | C21: ='INPUT - to fill in'!S228+'INPUT - to fill in'!Q75 -> 0 | D21: =IF($C$9=0,"",C21/$C$9) | E21: ='INPUT - to fill in'!R75+'INPUT - to fill in'!T228 -> 0 | F21: =IF($E$9=0,"",E21/$E$9) | G21: ='INPUT - to fill in'!U228+'INPUT - to fill in'!S75 -> 0 | H21: =IF($G$9=0,"",G21/$G$9) | J21: Associate loan | K21: ='INPUT - to fill in'!C249 -> 0
B22: ='INPUT - to fill in'!A77 -> Maintenance and repairs | C22: ='INPUT - to fill in'!Q77 -> 0 | D22: =IF($C$9=0,"",C22/$C$9) | E22: ='INPUT - to fill in'!R77 -> 0 | F22: =IF($E$9=0,"",E22/$E$9) | G22: ='INPUT - to fill in'!S77 -> 0 | H22: =IF($G$9=0,"",G22/$G$9) | J22: Bank loan | K22: ='INPUT - to fill in'!C250 -> 0
B23: ='INPUT - to fill in'!A78 -> Documentation and purchase of studies | C23: ='INPUT - to fill in'!Q78 -> 0 | D23: =IF($C$9=0,"",C23/$C$9) | E23: ='INPUT - to fill in'!R78 -> 0 | F23: =IF($E$9=0,"",E23/$E$9) | G23: ='INPUT - to fill in'!S78 -> 0 | H23: =IF($G$9=0,"",G23/$G$9) | J23: Grants | K23: ='INPUT - to fill in'!C253 -> 0
B24: ='INPUT - to fill in'!A79 -> Training costs | C24: ='INPUT - to fill in'!Q79 -> 0 | D24: =IF($C$9=0,"",C24/$C$9) | E24: ='INPUT - to fill in'!R79 -> 0 | F24: =IF($E$9=0,"",E24/$E$9) | G24: ='INPUT - to fill in'!S79 -> 0 | H24: =IF($G$9=0,"",G24/$G$9) | J24: Self-Financing | L24: =C65 -> 0 | M24: =E65 -> -535 | N24: =G63 -> -535
B25: ='INPUT - to fill in'!A80 -> Fees | C25: ='INPUT - to fill in'!Q80 -> 0 | D25: =IF($C$9=0,"",C25/$C$9) | E25: ='INPUT - to fill in'!R80 -> 0 | F25: =IF($E$9=0,"",E25/$E$9) | G25: ='INPUT - to fill in'!S80 -> 0 | H25: =IF($G$9=0,"",G25/$G$9)
B26: ='INPUT - to fill in'!A81 -> Insurance premium | C26: ='INPUT - to fill in'!Q81 -> 0 | D26: =IF($C$9=0,"",C26/$C$9) | E26: ='INPUT - to fill in'!R81 -> 0 | F26: =IF($E$9=0,"",E26/$E$9) | G26: ='INPUT - to fill in'!S81 -> 0 | H26: =IF($G$9=0,"",G26/$G$9) | J26: YEARLY GAP | K26: =K19-K9 -> 0 | L26: =L19-L9 -> 0 | M26: =M19-M9 -> -535 | N26: =N19-N9 -> -535
B27: ='INPUT - to fill in'!A82 -> Advertising | C27: ='INPUT - to fill in'!Q82 -> 0 | D27: =IF($C$9=0,"",C27/$C$9) | E27: ='INPUT - to fill in'!R82 -> 0 | F27: =IF($E$9=0,"",E27/$E$9) | G27: ='INPUT - to fill in'!S82 -> 0 | H27: =IF($G$9=0,"",G27/$G$9) | J27: CUMULATIVE GAP | K27: =K26 -> 0 | L27: =L26+K27 -> 0 | M27: =M26+L27 -> -535 | N27: =N26+M27 -> -1070
B28: ='INPUT - to fill in'!A83 -> Travel and representation | C28: ='INPUT - to fill in'!Q83 -> 0 | D28: =IF($C$9=0,"",C28/$C$9) | E28: ='INPUT - to fill in'!R83 -> 0 | F28: =IF($E$9=0,"",E28/$E$9) | G28: ='INPUT - to fill in'!S83 -> 0 | H28: =IF($G$9=0,"",G28/$G$9)
B29: ='INPUT - to fill in'!A84 -> Transport of goods | C29: ='INPUT - to fill in'!Q84 -> 0 | D29: =IF($C$9=0,"",C29/$C$9) | E29: ='INPUT - to fill in'!R84 -> 0 | F29: =IF($E$9=0,"",E29/$E$9) | G29: ='INPUT - to fill in'!S84 -> 0 | H29: =IF($G$9=0,"",G29/$G$9) | J29: --------- KEY PERFORMANCE INDICATORS ---------
B30: ='INPUT - to fill in'!A85 -> Fleet insurance | C30: ='INPUT - to fill in'!Q85 -> 0 | D30: =IF($C$9=0,"",C30/$C$9) | E30: ='INPUT - to fill in'!R85 -> 0 | F30: =IF($E$9=0,"",E30/$E$9) | G30: ='INPUT - to fill in'!S85 -> 0 | H30: =IF($G$9=0,"",G30/$G$9)
B31: ='INPUT - to fill in'!A86 -> Fleet-related taxes | C31: ='INPUT - to fill in'!Q86 -> 0 | D31: =IF($C$9=0,"",C31/$C$9) | E31: ='INPUT - to fill in'!R86 -> 0 | F31: =IF($E$9=0,"",E31/$E$9) | G31: ='INPUT - to fill in'!S86 -> 0 | H31: =IF($G$9=0,"",G31/$G$9) | J31: INDICATORS | K31: YEAR 1 | L31: YEAR 2 | M31: YEAR 3
B32: ='INPUT - to fill in'!A87 -> Use of temporary staff | C32: ='INPUT - to fill in'!Q87 -> 0 | D32: =IF($C$9=0,"",C32/$C$9) | E32: ='INPUT - to fill in'!R87 -> 0 | F32: =IF($E$9=0,"",E32/$E$9) | G32: ='INPUT - to fill in'!S87 -> 0 | H32: =IF($G$9=0,"",G32/$G$9) | J32: BREAK-EVEN POINT | K32: =IF(DATA!H167<>0,DATA!H165,"") | L32: =IF(DATA!I167<>0,DATA!I165,"") | M32: =IF(DATA!J167<>0,DATA!J165,"")
B33: ='INPUT - to fill in'!A88 -> Telephone and internet fees | C33: ='INPUT - to fill in'!Q88 -> 0 | D33: =IF($C$9=0,"",C33/$C$9) | E33: ='INPUT - to fill in'!R88 -> 0 | F33: =IF($E$9=0,"",E33/$E$9) | G33: ='INPUT - to fill in'!S88 -> 0 | H33: =IF($G$9=0,"",G33/$G$9)
B34: ='INPUT - to fill in'!A89 -> Website management fees | C34: ='INPUT - to fill in'!Q89 -> 0 | D34: =IF($C$9=0,"",C34/$C$9) | E34: ='INPUT - to fill in'!R89 -> 0 | F34: =IF($E$9=0,"",E34/$E$9) | G34: ='INPUT - to fill in'!S89 -> 0 | H34: =IF($G$9=0,"",G34/$G$9)
B35: ='INPUT - to fill in'!A90 -> Bank services | C35: ='INPUT - to fill in'!Q90 -> 0 | D35: =IF($C$9=0,"",C35/$C$9) | E35: ='INPUT - to fill in'!R90 -> 0 | F35: =IF($E$9=0,"",E35/$E$9) | G35: ='INPUT - to fill in'!S90 -> 0 | H35: =IF($G$9=0,"",G35/$G$9) | J35: BREAK-EVEN POINT ON A 360-DAY BASIS | K35: =IF(K32<>"",K32/(C9/360),"") | L35: =IF(L32<>"",L32/(E9/360),"") | M35: =IF(M32<>"",M32/(G9/360),"")
B36: ='INPUT - to fill in'!A91 -> Loan interest | C36: ='INPUT - to fill in'!Q91 -> 0 | D36: =IF($C$9=0,"",C36/$C$9) | E36: ='INPUT - to fill in'!R91 -> 0 | F36: =IF($E$9=0,"",E36/$E$9) | G36: ='INPUT - to fill in'!S91 -> 0 | H36: =IF($G$9=0,"",G36/$G$9)
B37: ='INPUT - to fill in'!A92 -> Transaction commissions | C37: ='INPUT - to fill in'!Q92 -> 0 | D37: =IF($C$9=0,"",C37/$C$9) | E37: ='INPUT - to fill in'!R92 -> 0 | F37: =IF($E$9=0,"",E37/$E$9) | G37: ='INPUT - to fill in'!S92 -> 0 | H37: =IF($G$9=0,"",G37/$G$9)
B38: ='INPUT - to fill in'!A93 -> Miscellaneous expenses 1 | C38: ='INPUT - to fill in'!Q93 -> 0 | D38: =IF($C$9=0,"",C38/$C$9) | E38: ='INPUT - to fill in'!R93 -> 0 | F38: =IF($E$9=0,"",E38/$E$9) | G38: ='INPUT - to fill in'!S93 -> 0 | H38: =IF($G$9=0,"",G38/$G$9) | J38: SAFETY MARGIN | K38: =IF(K32<>"",(C9-K32)/C9,"") | L38: =IF(L32<>"",(E9-L32)/E9,"") | M38: =IF(M32<>"",(G9-M32)/G9,"")
B39: ='INPUT - to fill in'!A94 -> Miscellaneous expenses 2 | C39: ='INPUT - to fill in'!Q94 -> 0 | D39: =IF($C$9=0,"",C39/$C$9) | E39: ='INPUT - to fill in'!R94 -> 0 | F39: =IF($E$9=0,"",E39/$E$9) | G39: ='INPUT - to fill in'!S94 -> 0 | H39: =IF($G$9=0,"",G39/$G$9)
B41: = ADDED VALUE | C41: =C13-C15 -> 0 | D41: =IF($C$9=0,"",C41/$C$9) | E41: =E13-E15 -> 0 | F41: =IF($E$9=0,"",E41/$E$9) | G41: =G13-G15 -> 0 | H41: =IF($G$9=0,"",G41/$G$9) | J41: FINANCIAL INDEPENDENCE RATIO | K41: =IF('INPUT - to fill in'!C250>0,(K20+L20+L24)/(K20+L20+L24+K21+L21+K23+L23+'Loan Calculator'!H5),"100%") -> 100% | L41: =IF('INPUT - to fill in'!C250>0,(M20+M24)/(M20+M24+M23+M21+M22+'Loan Calculator'!H8),"100%") -> 100% | M41: =IF('INPUT - to fill in'!C250>0,(N20+N24)/(N20+N24+N23+N21+N22+'Loan Calculator'!H11),"100%") -> 100%
B43: - EMPLOYEE EXPENSES | C43: =SUM(C44:C46) -> 0 | D43: =IF($C$9=0,"",C43/$C$9) | E43: =SUM(E44:E46) -> 0 | F43: =IF($E$9=0,"",E43/$E$9) | G43: =SUM(G44:G46) -> 0 | H43: =IF($G$9=0,"",G43/$G$9)
B44: Excecutive's Remuneration | C44: =SUM('INPUT - to fill in'!P129) -> 0 | D44: =IF($C$9=0,"",C44/$C$9) | E44: =SUM('INPUT - to fill in'!Q129) -> 0 | F44: =IF($E$9=0,"",E44/$E$9) | G44: =SUM('INPUT - to fill in'!R129) -> 0 | H44: =IF($G$9=0,"",G44/$G$9) | J44: YEARLY CASHFLOW | K44: =L24 -> 0 | L44: =M24 -> -535 | M44: =N24 -> -535
B45: Employee Remuneration | C45: =SUM('INPUT - to fill in'!P130:P135) -> 0 | D45: =IF($C$9=0,"",C45/$C$9) | E45: =SUM('INPUT - to fill in'!Q130:Q135) -> 0 | F45: =IF($E$9=0,"",E45/$E$9) | G45: =SUM('INPUT - to fill in'!R130:R135) -> 0 | H45: =IF($G$9=0,"",G45/$G$9)
B46: Social Charges | C46: ='INPUT - to fill in'!P136 -> 0 | D46: =IF($C$9=0,"",C46/$C$9) | E46: ='INPUT - to fill in'!Q136 -> 0 | F46: =IF($E$9=0,"",E46/$E$9) | G46: ='INPUT - to fill in'!R136 -> 0 | H46: =IF($G$9=0,"",G46/$G$9)
J47: ------------------------------------------------------------ CASH FLOW ANALYSIS ------------------------------------------------------------------
...

Sheet OUTPUT - Explanation
B1: Explanations
B4: -------------------------------- PROFIT AND LOSS ------------------------------- | E4: ----------------- FINANCIAL PLAN ---------------------
B6: PROFITABILITY ANALYSIS | C6: Explanations | E6: FINANCIAL PLAN | F6: Explanations
B7: + TURNOVER | C7: Total sales of goods / service provision per year | E7: TOTAL INVESTMENTS TO FINANCE
E8: Incorporation Expenses and Related Costs | F8: The financial plan is the table that gives all the comprising elements of investments required for the creation of the company and all its associated costs. Additionally, it includes the financial resources that will be used to finance the project.
B9: - PURCHASE OF GOOD | C9: Total annual purchases of goods | E9: Intangible Assets
E10: Tangible Assets
B11: = GROSS MARGIN | C11: The gross profit corresponds to the difference between the selling price and the purchase price of goods or services. | E11: Financial Assets | F11: The numbers filled in the investments to finance, are derived from the depreciations calculations made in the “Investments” section of the “INPUT – to fill in” tab.
E12: Initial Cash / Treasury
B13: CONSUMPTION FORM THIRD PARTIES | E13: Initial Inventory Buildup
B14: ='OUTPUT - analysis'!B16 -> Rental of property | C14: The consumption from third parties permits the evaluation of the intermediary consumption which represents the goods and services purchased from external third parties outside of the company. They include everything that the company purchases from outside (goods and services), excluding employee expenses, financial expenses, and exceptional charges. | E14: Recoverable VAT
B15: ='OUTPUT - analysis'!B17 -> Rental charges | E15: Loan Repayment
B16: ='OUTPUT - analysis'!B18 -> Non-storable bills: water/electricity/gas
B17: ='OUTPUT - analysis'!B19 -> Building taxes | E17: TOTAL RESOURCES | F17: The numbers filled in the resources need to be filled out in the lines 249-255 from the “INPUT – to fill in” tab.
B18: ='OUTPUT - analysis'!B20 -> Furniture leasing | E18: Equity contribution / Capital | F18: 0
B19: ='OUTPUT - analysis'!B21 -> Subcontracting | E19: Associate loan | F19: 0
B20: ='OUTPUT - analysis'!B22 -> Maintenance and repairs | E20: Bank loan | F20: 0
B21: ='OUTPUT - analysis'!B23 -> Documentation and purchase of studies | E21: Grants | F21: 0
B22: ='OUTPUT - analysis'!B24 -> Training costs | E22: Self-Financing
B23: ='OUTPUT - analysis'!B25 -> Fees
B24: ='OUTPUT - analysis'!B26 -> Insurance premium | E24: YEARLY GAP | F24: The yearly gap should not be negative, as this would mean that the financial resources are not sufficient to finance the investments
B25: ='OUTPUT - analysis'!B27 -> Advertising | E25: CUMULATIVE GAP
B26: ='OUTPUT - analysis'!B28 -> Travel and representation
B27: ='OUTPUT - analysis'!B29 -> Transport of goods
B28: ='OUTPUT - analysis'!B30 -> Fleet insurance
B29: ='OUTPUT - analysis'!B31 -> Fleet-related taxes | E29: ----------------- KEY PERFORMANCE INDICATORS ---------------------
B30: ='OUTPUT - analysis'!B32 -> Use of temporary staff
B31: ='OUTPUT - analysis'!B33 -> Telephone and internet fees | E31: INDICATORS | F31: Explanations
B32: ='OUTPUT - analysis'!B34 -> Website management fees | E32: BREAK-EVEN POINT | F32: The break-even point corresponds to the level of sales (excluding tax) that a business needs to achieve over the course of an accounting year to cover all its expenses.
B33: ='OUTPUT - analysis'!B35 -> Bank services
B34: ='OUTPUT - analysis'!B36 -> Loan interest | E34: BREAK-EVEN POINT ON A 360-DAY BASIS | F34: Breakeven point is the number of days before a company reaches its break-even point.
B35: ='OUTPUT - analysis'!B37 -> Transaction commissions
B36: ='OUTPUT - analysis'!B38 -> Miscellaneous expenses 1 | E36: SAFETY MARGIN | F36: The safety margin is the difference between sales and the break-even point. The greater the deviation, the greater the safety margin.
B37: ='OUTPUT - analysis'!B39 -> Miscellaneous expenses 2
E38: FINANCIAL INDEPENDENCE RATIO | F38: This ratio is used to measure a business's financial equilibrium, i.e. how much of the total investment is equity. The closer this ratio is to 0%, the more indebted the company.
B39: = ADDED VALUE | C39: The added value is the economic indicator that measures the value or wealth created by the company during a year.
B41: - EMPLOYEE EXPENSES | E41: YEARLY CASHFLOW | F41: All the financial resources generated by the business to ensure its financing. This data is very important for the financial investors (banks or private investors) as it shows the ability to repay this financing.
B42: ='OUTPUT - analysis'!B44 -> Excecutive's Remuneration | C42: Personnel expenses include all salaries and remuneration paid to employees and company executives. This category comprises gross salaries of employees and social security contributions.
B43: ='OUTPUT - analysis'!B45 -> Employee Remuneration
B44: ='OUTPUT - analysis'!B46 -> Social Charges
...

Sheet PRINT VERSION
B6: ANALYSIS OF PROFITABILITY | K6: FINANCIAL PLAN | S6: Turnover
B8: ANALYSIS OF PROFITABILITY | C8: YEAR 1 | D8: % of TO | E8: YEAR 2 | F8: % of TO | G8: YEAR 3 | H8: % of TO | K8: FINANCIAL PLAN | L8: Start | M8: YEAR 1 | N8: YEAR 2 | O8: YEAR 3 | S8: VAT | T8: Product Description | U8: Average price | V8: Month 1 | W8: Month 2 | X8: Month 3 | Y8: Month 4 | Z8: Month 5 | AA8: Month 6
B9: + TURNOVER | C9: ='INPUT - to fill in'!S225 -> 0 | D9: =IF($C$9=0,"",C9/$C$9) | E9: ='INPUT - to fill in'!T225 -> 0 | F9: =IF($E$9=0,"",E9/$E$9) | G9: ='INPUT - to fill in'!U225 -> 0 | H9: =IF($G$9=0,"",G9/$G$9) | K9: TOTAL INVESTMENTS TO FINANCE | L9: =SUM(L10:L17) -> 0 | M9: =SUM(M10:M17) -> 0 | N9: =SUM(N10:N17) -> 0 | O9: =SUM(O10:O17) -> 0 | V9: Mois 7
K10: Incorporation Expenses and Related Costs | L10: ='INPUT - to fill in'!D33 -> 0 | S10: 0.17 | T10: ='INPUT - to fill in'!C154 -> Indicate your sales category here | U10: ='INPUT - to fill in'!$D$154 -> 0 | V10: ='INPUT - to fill in'!G155 -> 0 | W10: ='INPUT - to fill in'!H155 -> 0 | X10: ='INPUT - to fill in'!I155 -> 0 | Y10: ='INPUT - to fill in'!J155 -> 0 | Z10: ='INPUT - to fill in'!K155 -> 0 | AA10: ='INPUT - to fill in'!L155 -> 0
B11: - PURCHASE OF GOODS | C11: ='INPUT - to fill in'!S227 -> 0 | D11: =IF($C$9=0,"",C11/$C$9) | E11: ='INPUT - to fill in'!T227 -> 0 | F11: =IF($E$9=0,"",E11/$E$9) | G11: ='INPUT - to fill in'!U227 -> 0 | H11: =IF($G$9=0,"",G11/$G$9) | K11: Intangible Assets Intangible Assets | L11: =SUM('INPUT - to fill in'!D34:D37) -> 0 | S11: htva
K12: Tangible Assets | L12: =SUM('INPUT - to fill in'!D38:D54) -> 0 | S12: 0.17 | T12: ='INPUT - to fill in'!C161 -> Indicate your sales category here | U12: ='INPUT - to fill in'!$D$161 -> 0 | V12: ='INPUT - to fill in'!G162 -> 0 | W12: ='INPUT - to fill in'!H162 -> 0 | X12: ='INPUT - to fill in'!I162 -> 0 | Y12: ='INPUT - to fill in'!J162 -> 0 | Z12: ='INPUT - to fill in'!K162 -> 0 | AA12: ='INPUT - to fill in'!L162 -> 0
B13: = GROSS MARGIN | C13: =C9-C11 -> 0 | D13: =IF($C$9=0,"",C13/$C$9) | E13: =E9-E11 -> 0 | F13: =IF($E$9=0,"",E13/$E$9) | G13: =G9-G11 -> 0 | H13: =IF($G$9=0,"",G13/$G$9) | K13: Financial Assets | L13: =SUM('INPUT - to fill in'!D55:D56) -> 0 | S13: htva | U13: =U12 -> 0
K14: Initial Cash / Treasury | L14: ='INPUT - to fill in'!D58 -> 0 | S14: 0.17 | T14: ='INPUT - to fill in'!C168 -> Indicate your sales category here | U14: ='INPUT - to fill in'!$D$168 -> 0 | V14: ='INPUT - to fill in'!G169 -> 0 | W14: ='INPUT - to fill in'!H169 -> 0 | X14: ='INPUT - to fill in'!I169 -> 0 | Y14: ='INPUT - to fill in'!J169 -> 0 | Z14: ='INPUT - to fill in'!K169 -> 0 | AA14: ='INPUT - to fill in'!L169 -> 0
B15: - CONSUMPTION FROM THIRD PARTIES | C15: =SUM(C16:C39) -> 0 | D15: =IF($C$9=0,"",C15/$C$9) | E15: =SUM(E16:E39) -> 0 | F15: =IF($E$9=0,"",E15/$E$9) | G15: =SUM(G16:G39) -> 0 | H15: =IF($G$9=0,"",G15/$G$9) | K15: Initial Inventory Buildup | L15: ='INPUT - to fill in'!D57 -> 0 | S15: htva | U15: =U14 -> 0
B16: ='INPUT - to fill in'!A70 -> Rental of property | C16: ='INPUT - to fill in'!Q70 -> 0 | D16: =IF($C$9=0,"",C16/$C$9) | E16: ='INPUT - to fill in'!R70 -> 0 | F16: =IF($E$9=0,"",E16/$E$9) | G16: ='INPUT - to fill in'!S70 -> 0 | H16: =IF($G$9=0,"",G16/$G$9) | K16: Recoverable VAT | L16: ='INPUT - to fill in'!E59 -> 0 | S16: 0.17 | T16: ='INPUT - to fill in'!C175 -> Indicate your sales category here | U16: ='INPUT - to fill in'!$D$175 -> 0 | V16: ='INPUT - to fill in'!G176 -> 0 | W16: ='INPUT - to fill in'!H176 -> 0 | X16: ='INPUT - to fill in'!I176 -> 0 | Y16: ='INPUT - to fill in'!J176 -> 0 | Z16: ='INPUT - to fill in'!K176 -> 0 | AA16: ='INPUT - to fill in'!L176 -> 0
B17: ='INPUT - to fill in'!A71 -> Rental charges | C17: ='INPUT - to fill in'!Q71 -> 0 | D17: =IF($C$9=0,"",C17/$C$9) | E17: ='INPUT - to fill in'!R71 -> 0 | F17: =IF($E$9=0,"",E17/$E$9) | G17: ='INPUT - to fill in'!S71 -> 0 | H17: =IF($G$9=0,"",G17/$G$9) | K17: Loan Repayment | M17: ='Loan Calculator'!H3 -> 0 | N17: ='Loan Calculator'!H6 -> 0 | O17: ='Loan Calculator'!H9 -> 0 | S17: htva | U17: =U16 -> 0
B18: ='INPUT - to fill in'!A72 -> Non-storable bills: water/electricity/gas | C18: ='INPUT - to fill in'!Q72 -> 0 | D18: =IF($C$9=0,"",C18/$C$9) | E18: ='INPUT - to fill in'!R72 -> 0 | F18: =IF($E$9=0,"",E18/$E$9) | G18: ='INPUT - to fill in'!S72 -> 0 | H18: =IF($G$9=0,"",G18/$G$9) | S18: 0.17 | T18: ='INPUT - to fill in'!C182 -> Indicate your sales category here | U18: ='INPUT - to fill in'!$D$182 -> 0 | V18: ='INPUT - to fill in'!G183 -> 0 | W18: ='INPUT - to fill in'!H183 -> 0 | X18: ='INPUT - to fill in'!I183 -> 0 | Y18: ='INPUT - to fill in'!J183 -> 0 | Z18: ='INPUT - to fill in'!K183 -> 0 | AA18: ='INPUT - to fill in'!L183 -> 0
B19: ='INPUT - to fill in'!A73 -> Building taxes | C19: ='INPUT - to fill in'!Q73 -> 0 | D19: =IF($C$9=0,"",C19/$C$9) | E19: ='INPUT - to fill in'!R73 -> 0 | F19: =IF($E$9=0,"",E19/$E$9) | G19: ='INPUT - to fill in'!S73 -> 0 | H19: =IF($G$9=0,"",G19/$G$9) | K19: TOTAL RESOURCES | L19: =SUM(L20:L25) -> 0 | M19: =SUM(M20:M25) -> 0 | N19: =SUM(N20:N25) -> -535 | O19: =SUM(O20:O25) -> -535 | S19: htva | U19: =U18 -> 0
B20: ='INPUT - to fill in'!A74 -> Furniture leasing | C20: ='INPUT - to fill in'!Q74 -> 0 | D20: =IF($C$9=0,"",C20/$C$9) | E20: ='INPUT - to fill in'!R74 -> 0 | F20: =IF($E$9=0,"",E20/$E$9) | G20: ='INPUT - to fill in'!S74 -> 0 | H20: =IF($G$9=0,"",G20/$G$9) | K20: Equity contribution / Capital | L20: ='INPUT - to fill in'!C248 -> 0 | S20: 0.17 | T20: ='INPUT - to fill in'!C189 -> Indicate your sales category here | U20: ='INPUT - to fill in'!$D$189 -> 0 | V20: ='INPUT - to fill in'!G190 -> 0 | W20: ='INPUT - to fill in'!H190 -> 0 | X20: ='INPUT - to fill in'!I190 -> 0 | Y20: ='INPUT - to fill in'!J190 -> 0 | Z20: ='INPUT - to fill in'!K190 -> 0 | AA20: ='INPUT - to fill in'!L190 -> 0
B21: ='INPUT - to fill in'!A75 -> Subcontracting | C21: ='INPUT - to fill in'!S228+'INPUT - to fill in'!Q75 -> 0 | D21: =IF($C$9=0,"",C21/$C$9) | E21: ='INPUT - to fill in'!R75+'INPUT - to fill in'!T228 -> 0 | F21: =IF($E$9=0,"",E21/$E$9) | G21: ='INPUT - to fill in'!U228+'INPUT - to fill in'!S75 -> 0 | H21: =IF($G$9=0,"",G21/$G$9) | K21: Associate loan | L21: ='INPUT - to fill in'!C249 -> 0 | S21: htva | U21: =U20 -> 0
B22: ='INPUT - to fill in'!A77 -> Maintenance and repairs | C22: ='INPUT - to fill in'!Q77 -> 0 | D22: =IF($C$9=0,"",C22/$C$9) | E22: ='INPUT - to fill in'!R77 -> 0 | F22: =IF($E$9=0,"",E22/$E$9) | G22: ='INPUT - to fill in'!S77 -> 0 | H22: =IF($G$9=0,"",G22/$G$9) | K22: Bank loan | L22: ='INPUT - to fill in'!C250 -> 0 | S22: htva | U22: Turnover excluding VAT | V22: ='INPUT - to fill in'!G225 -> 0 | W22: ='INPUT - to fill in'!H225 -> 0 | X22: ='INPUT - to fill in'!I225 -> 0 | Y22: ='INPUT - to fill in'!J225 -> 0 | Z22: ='INPUT - to fill in'!K225 -> 0 | AA22: ='INPUT - to fill in'!L225 -> 0
B23: ='INPUT - to fill in'!A78 -> Documentation and purchase of studies | C23: ='INPUT - to fill in'!Q78 -> 0 | D23: =IF($C$9=0,"",C23/$C$9) | E23: ='INPUT - to fill in'!R78 -> 0 | F23: =IF($E$9=0,"",E23/$E$9) | G23: ='INPUT - to fill in'!S78 -> 0 | H23: =IF($G$9=0,"",G23/$G$9) | K23: Grants | L23: ='INPUT - to fill in'!C253 -> 0
B24: ='INPUT - to fill in'!A79 -> Training costs | C24: ='INPUT - to fill in'!Q79 -> 0 | D24: =IF($C$9=0,"",C24/$C$9) | E24: ='INPUT - to fill in'!R79 -> 0 | F24: =IF($E$9=0,"",E24/$E$9) | G24: ='INPUT - to fill in'!S79 -> 0 | H24: =IF($G$9=0,"",G24/$G$9) | K24: Self-Financing | M24: =C65 -> 0 | N24: =E65 -> -535 | O24: =G63 -> -535
B25: ='INPUT - to fill in'!A80 -> Fees | C25: ='INPUT - to fill in'!Q80 -> 0 | D25: =IF($C$9=0,"",C25/$C$9) | E25: ='INPUT - to fill in'!R80 -> 0 | F25: =IF($E$9=0,"",E25/$E$9) | G25: ='INPUT - to fill in'!S80 -> 0 | H25: =IF($G$9=0,"",G25/$G$9)
B26: ='INPUT - to fill in'!A81 -> Insurance premium | C26: ='INPUT - to fill in'!Q81 -> 0 | D26: =IF($C$9=0,"",C26/$C$9) | E26: ='INPUT - to fill in'!R81 -> 0 | F26: =IF($E$9=0,"",E26/$E$9) | G26: ='INPUT - to fill in'!S81 -> 0 | H26: =IF($G$9=0,"",G26/$G$9) | K26: YEARLY GAP | L26: =L19-L9 -> 0 | M26: =M19-M9 -> 0 | N26: =N19-N9 -> -535 | O26: =O19-O9 -> -535
B27: ='INPUT - to fill in'!A82 -> Advertising | C27: ='INPUT - to fill in'!Q82 -> 0 | D27: =IF($C$9=0,"",C27/$C$9) | E27: ='INPUT - to fill in'!R82 -> 0 | F27: =IF($E$9=0,"",E27/$E$9) | G27: ='INPUT - to fill in'!S82 -> 0 | H27: =IF($G$9=0,"",G27/$G$9) | K27: CUMULATIVE GAP | L27: =L26 -> 0 | M27: =M26+L27 -> 0 | N27: =N26+M27 -> -535 | O27: =O26+N27 -> -1070
B28: ='INPUT - to fill in'!A83 -> Travel and representation | C28: ='INPUT - to fill in'!Q83 -> 0 | D28: =IF($C$9=0,"",C28/$C$9) | E28: ='INPUT - to fill in'!R83 -> 0 | F28: =IF($E$9=0,"",E28/$E$9) | G28: ='INPUT - to fill in'!S83 -> 0 | H28: =IF($G$9=0,"",G28/$G$9) | S28: VAT | T28: Product Description | U28: Average price | V28: Month 7 | W28: Month 8 | X28: Month 9 | Y28: Month 10 | Z28: Month 11 | AA28: Month 12
B29: ='INPUT - to fill in'!A84 -> Transport of goods | C29: ='INPUT - to fill in'!Q84 -> 0 | D29: =IF($C$9=0,"",C29/$C$9) | E29: ='INPUT - to fill in'!R84 -> 0 | F29: =IF($E$9=0,"",E29/$E$9) | G29: ='INPUT - to fill in'!S84 -> 0 | H29: =IF($G$9=0,"",G29/$G$9) | K29: KEY PERFORMANCE INDICATORS | V29: Mois 7
B30: ='INPUT - to fill in'!A85 -> Fleet insurance | C30: ='INPUT - to fill in'!Q85 -> 0 | D30: =IF($C$9=0,"",C30/$C$9) | E30: ='INPUT - to fill in'!R85 -> 0 | F30: =IF($E$9=0,"",E30/$E$9) | G30: ='INPUT - to fill in'!S85 -> 0 | H30: =IF($G$9=0,"",G30/$G$9) | S30: 0.17 | T30: =T10 -> Indicate your sales category here | U30: ='INPUT - to fill in'!$D$154 -> 0 | V30: ='INPUT - to fill in'!M155 -> 0 | W30: ='INPUT - to fill in'!N155 -> 0 | X30: ='INPUT - to fill in'!O155 -> 0 | Y30: ='INPUT - to fill in'!P155 -> 0 | Z30: ='INPUT - to fill in'!Q155 -> 0 | AA30: ='INPUT - to fill in'!R155 -> 0
B31: ='INPUT - to fill in'!A86 -> Fleet-related taxes | C31: ='INPUT - to fill in'!Q86 -> 0 | D31: =IF($C$9=0,"",C31/$C$9) | E31: ='INPUT - to fill in'!R86 -> 0 | F31: =IF($E$9=0,"",E31/$E$9) | G31: ='INPUT - to fill in'!S86 -> 0 | H31: =IF($G$9=0,"",G31/$G$9) | S31: htva
B32: ='INPUT - to fill in'!A87 -> Use of temporary staff | C32: ='INPUT - to fill in'!Q87 -> 0 | D32: =IF($C$9=0,"",C32/$C$9) | E32: ='INPUT - to fill in'!R87 -> 0 | F32: =IF($E$9=0,"",E32/$E$9) | G32: ='INPUT - to fill in'!S87 -> 0 | H32: =IF($G$9=0,"",G32/$G$9) | K32: INDICATORS | L32: YEAR 1 | M32: YEAR 2 | N32: YEAR 3 | S32: 0.17 | T32: =T12 -> Indicate your sales category here | U32: ='INPUT - to fill in'!$D$161 -> 0 | V32: ='INPUT - to fill in'!M162 -> 0 | W32: ='INPUT - to fill in'!N162 -> 0 | X32: ='INPUT - to fill in'!O162 -> 0 | Y32: ='INPUT - to fill in'!P162 -> 0 | Z32: ='INPUT - to fill in'!Q162 -> 0 | AA32: ='INPUT - to fill in'!R162 -> 0
B33: ='INPUT - to fill in'!A88 -> Telephone and internet fees | C33: ='INPUT - to fill in'!Q88 -> 0 | D33: =IF($C$9=0,"",C33/$C$9) | E33: ='INPUT - to fill in'!R88 -> 0 | F33: =IF($E$9=0,"",E33/$E$9) | G33: ='INPUT - to fill in'!S88 -> 0 | H33: =IF($G$9=0,"",G33/$G$9) | K33: BREAK-EVEN POINT | L33: =IF(DATA!H167<>0,DATA!H165,"") | M33: =IF(DATA!I167<>0,DATA!I165,"") | N33: =IF(DATA!J167<>0,DATA!J165,"") | S33: htva | U33: =U32 -> 0
B34: ='INPUT - to fill in'!A89 -> Website management fees | C34: ='INPUT - to fill in'!Q89 -> 0 | D34: =IF($C$9=0,"",C34/$C$9) | E34: ='INPUT - to fill in'!R89 -> 0 | F34: =IF($E$9=0,"",E34/$E$9) | G34: ='INPUT - to fill in'!S89 -> 0 | H34: =IF($G$9=0,"",G34/$G$9) | S34: 0.17 | T34: =T14 -> Indicate your sales category here | U34: ='INPUT - to fill in'!$D$168 -> 0 | V34: ='INPUT - to fill in'!M169 -> 0 | W34: ='INPUT - to fill in'!N169 -> 0 | X34: ='INPUT - to fill in'!O169 -> 0 | Y34: ='INPUT - to fill in'!P169 -> 0 | Z34: ='INPUT - to fill in'!Q169 -> 0 | AA34: ='INPUT - to fill in'!R169 -> 0
B35: ='INPUT - to fill in'!A90 -> Bank services | C35: ='INPUT - to fill in'!Q90 -> 0 | D35: =IF($C$9=0,"",C35/$C$9) | E35: ='INPUT - to fill in'!R90 -> 0 | F35: =IF($E$9=0,"",E35/$E$9) | G35: ='INPUT - to fill in'!S90 -> 0 | H35: =IF($G$9=0,"",G35/$G$9) | S35: htva | U35: =U34 -> 0
B36: ='INPUT - to fill in'!A91 -> Loan interest | C36: ='INPUT - to fill in'!Q91 -> 0 | D36: =IF($C$9=0,"",C36/$C$9) | E36: ='INPUT - to fill in'!R91 -> 0 | F36: =IF($E$9=0,"",E36/$E$9) | G36: ='INPUT - to fill in'!S91 -> 0 | H36: =IF($G$9=0,"",G36/$G$9) | K36: BREAK-EVEN POINT ON A 360-DAY BASIS | L36: =IF(L33<>"",L33/(C9/360),"") | M36: =IF(M33<>"",M33/(E9/360),"") | N36: =IF(N33<>"",N33/(G9/360),"") | S36: 0.17 | T36: =T16 -> Indicate your sales category here | U36: ='INPUT - to fill in'!$D$175 -> 0 | V36: ='INPUT - to fill in'!M176 -> 0 | W36: ='INPUT - to fill in'!N176 -> 0 | X36: ='INPUT - to fill in'!O176 -> 0 | Y36: ='INPUT - to fill in'!P176 -> 0 | Z36: ='INPUT - to fill in'!Q176 -> 0 | AA36: ='INPUT - to fill in'!R176 -> 0
B37: ='INPUT - to fill in'!A92 -> Transaction commissions | C37: ='INPUT - to fill in'!Q92 -> 0 | D37: =IF($C$9=0,"",C37/$C$9) | E37: ='INPUT - to fill in'!R92 -> 0 | F37: =IF($E$9=0,"",E37/$E$9) | G37: ='INPUT - to fill in'!S92 -> 0 | H37: =IF($G$9=0,"",G37/$G$9) | S37: htva | U37: =U36 -> 0
B38: ='INPUT - to fill in'!A93 -> Miscellaneous expenses 1 | C38: ='INPUT - to fill in'!Q93 -> 0 | D38: =IF($C$9=0,"",C38/$C$9) | E38: ='INPUT - to fill in'!R93 -> 0 | F38: =IF($E$9=0,"",E38/$E$9) | G38: ='INPUT - to fill in'!S93 -> 0 | H38: =IF($G$9=0,"",G38/$G$9) | S38: 0.17 | T38: =T18 -> Indicate your sales category here | U38: ='INPUT - to fill in'!$D$182 -> 0 | V38: ='INPUT - to fill in'!M183 -> 0 | W38: ='INPUT - to fill in'!N183 -> 0 | X38: ='INPUT - to fill in'!O183 -> 0 | Y38: ='INPUT - to fill in'!P183 -> 0 | Z38: ='INPUT - to fill in'!Q183 -> 0 | AA38: ='INPUT - to fill in'!R183 -> 0
B39: ='INPUT - to fill in'!A94 -> Miscellaneous expenses 2 | C39: ='INPUT - to fill in'!Q94 -> 0 | D39: =IF($C$9=0,"",C39/$C$9) | E39: ='INPUT - to fill in'!R94 -> 0 | F39: =IF($E$9=0,"",E39/$E$9) | G39: ='INPUT - to fill in'!S94 -> 0 | H39: =IF($G$9=0,"",G39/$G$9) | K39: SAFETY MARGIN | L39: =IF(L33<>"",(C9-L33)/C9,"") | M39: =IF(M33<>"",(E9-M33)/E9,"") | N39: =IF(N33<>"",(G9-N33)/G9,"") | S39: htva | U39: =U38 -> 0
S40: 0.17 | T40: =T20 -> Indicate your sales category here | U40: ='INPUT - to fill in'!$D$189 -> 0 | V40: ='INPUT - to fill in'!M190 -> 0 | W40: ='INPUT - to fill in'!N190 -> 0 | X40: ='INPUT - to fill in'!O190 -> 0 | Y40: ='INPUT - to fill in'!P190 -> 0 | Z40: ='INPUT - to fill in'!Q190 -> 0 | AA40: ='INPUT - to fill in'!R190 -> 0
B41: = ADDED VALUE | C41: =C13-C15 -> 0 | D41: =IF($C$9=0,"",C41/$C$9) | E41: =E13-E15 -> 0 | F41: =IF($E$9=0,"",E41/$E$9) | G41: =G13-G15 -> 0 | H41: =IF($G$9=0,"",G41/$G$9) | S41: htva | U41: =U40 -> 0
K42: FINANCIAL INDEPENDENCE RATIO | L42: ='OUTPUT - analysis'!K41 -> 100% | M42: ='OUTPUT - analysis'!L41 -> 100% | N42: ='OUTPUT - analysis'!M41 -> 100% | S42: htva | U42: Turnover excluding VAT | V42: ='INPUT - to fill in'!M225 -> 0 | W42: ='INPUT - to fill in'!N225 -> 0 | X42: ='INPUT - to fill in'!O225 -> 0 | Y42: ='INPUT - to fill in'!P225 -> 0 | Z42: ='INPUT - to fill in'!Q225 -> 0 | AA42: ='INPUT - to fill in'!R225 -> 0
B43: - EMPLOYEE EXPENSES | C43: =SUM(C44:C46) -> 0 | D43: =IF($C$9=0,"",C43/$C$9) | E43: =SUM(E44:E46) -> 0 | F43: =IF($E$9=0,"",E43/$E$9) | G43: =SUM(G44:G46) -> 0 | H43: =IF($G$9=0,"",G43/$G$9)
B44: Excecutive's Remuneration | C44: =SUM('INPUT - to fill in'!P129) -> 0 | D44: =IF($C$9=0,"",C44/$C$9) | E44: =SUM('INPUT - to fill in'!Q129) -> 0 | F44: =IF($E$9=0,"",E44/$E$9) | G44: =SUM('INPUT - to fill in'!R129) -> 0 | H44: =IF($G$9=0,"",G44/$G$9)
B45: Employee Remuneration | C45: =SUM('INPUT - to fill in'!P130:P135) -> 0 | D45: =IF($C$9=0,"",C45/$C$9) | E45: =SUM('INPUT - to fill in'!Q130:Q135) -> 0 | F45: =IF($E$9=0,"",E45/$E$9) | G45: =SUM('INPUT - to fill in'!R130:R135) -> 0 | H45: =IF($G$9=0,"",G45/$G$9) | K45: REPAYMENT CAPACITY | L45: =M24 -> 0 | M45: =N24 -> -535 | N45: =O24 -> -535
B46: Social Charges | C46: ='INPUT - to fill in'!P136 -> 0 | D46: =IF($C$9=0,"",C46/$C$9) | E46: ='INPUT - to fill in'!Q136 -> 0 | F46: =IF($E$9=0,"",E46/$E$9) | G46: ='INPUT - to fill in'!R136 -> 0 | H46: =IF($G$9=0,"",G46/$G$9)
...

Sheet DATA
A1: PARTIE COMMENTAIRES SOCIETE
A2: Formule de commentaires si un commentaire s'affiche sous condition | B2: Filter | G2: Formule de condition des challenges | H2: Filter | J2: Formule auxiliaire CA | K2: Formule auxiliaire SSML
A3: =IF('OUTPUT - analysis'!C56<17500,DATA!A14,"") -> Your municipal business tax is 0 because your profit before tax is less than €17,500. | B3: {=_xlfn._xlws.FILTER($A$3:$A$11,$A$3:$A$11<>"","")} -> Your municipal business tax is 0 because your profit before tax is less than €17,500. | G3: =IF(OR('OUTPUT - analysis'!K65<0,'OUTPUT - analysis'!L65<0,'OUTPUT - analysis'!M65<0,'OUTPUT - analysis'!N65<0,'OUTPUT - analysis'!O65<0,'OUTPUT - analysis'!P65<0,'OUTPUT - analysis'!Q65<0,'OUTPUT - analysis'!R65<0,'OUTPUT - analysis'!S65<0,'OUTPUT - analysis'!T65<0,'OUTPUT - analysis'!U65<0,'OUTPUT - analysis'!V65<0),G9,"") | H3: {=_xlfn._xlws.FILTER($G$3:$G$7,$G$3:$G$7<>"","")} | J3: =IF(COUNTIF('INPUT - to fill in'!G154:R154,'INPUT - to fill in'!G154)=12,1,0) -> 0 | K3: =IF(MIN('INPUT - to fill in'!D130:O135)<DATA!H31,1,0) -> 1
A4: =IF(OR('OUTPUT - analysis'!C56<175000,'OUTPUT - analysis'!E56<175000,'OUTPUT - analysis'!G56<175000),DATA!A15,"") -> Your corporate income tax (CIT/IRC) is 14.98% because your profit is less than €175,000. | B4: Your corporate income tax (CIT/IRC) is 14.98% because your profit is less than €175,000. | G4: =IF('INPUT - to fill in'!C250>0,G10,"") | J4: =IF(COUNTIF('INPUT - to fill in'!G161:R161,'INPUT - to fill in'!G161)=12,1,0) -> 0 | K4: =IF(OR('INPUT - to fill in'!P130<>0,'INPUT - to fill in'!P131<>0,'INPUT - to fill in'!P132<>0,'INPUT - to fill in'!P133<>0,,'INPUT - to fill in'!P134<>0,'INPUT - to fill in'!P135<>0),K3,"")
A5: =IF(OR('OUTPUT - analysis'!C56>175000,'OUTPUT - analysis'!E56>175000,'OUTPUT - analysis'!G56>175000),A16,"") | B5: If your turnover is less than €112,000, you have to pay and declare VAT on an annual basis. If this is the case, make sure you manage your VAT properly so that you have the funds to pay the collected VAT to the AED. | G5: =IF(OR(J3=1,J4=1,J5=1,J6=1,J7=1,J8=1),G11,"") | J5: =IF(COUNTIF('INPUT - to fill in'!G168:R168,'INPUT - to fill in'!G168)=12,1,0) -> 0
A6: =IF(OR('OUTPUT - analysis'!C9>112000,'OUTPUT - analysis'!E9<112000,'OUTPUT - analysis'!G9<112000),DATA!A17,"") -> If your turnover is less than €112,000, you have to pay and declare VAT on an annual basis. If this is the case, make sure you manage your VAT properly so that you have the funds to pay the collected VAT to the AED. | G6: =IF(K4=1,G12,"") | J6: =IF(COUNTIF('INPUT - to fill in'!G175:R175,'INPUT - to fill in'!G175)=12,1,0) -> 0
A7: =IF('INPUT - to fill in'!C253>0,A18,"") | J7: =IF(COUNTIF('INPUT - to fill in'!G182:R182,'INPUT - to fill in'!G182)=12,1,0) -> 0
G8: CHALLENGE | H8: SUJET | J8: =IF(COUNTIF('INPUT - to fill in'!G189:R189,'INPUT - to fill in'!G189)=12,1,0) -> 0
G9: Your accumulated cash flow is negative! Please check your cash flow and adjust your expenses. | H9: Trésorerie négative
G10: Good to know: for a bank loan, the bank will require a personal contribution of at least 20%. It should also be noted that certain expenses, such as capital, initial stock, cash flow or guarantees, are not financed by the bank. | H10: Apport prêt bancaire
G11: Your sales for one or more of your products are identical every month. Have you taken into account seasonal variations and the growth of your business? | H11: CA identique
G12: One or more of your employees is paid less than the Luxembourg Minimum Wage. This may be acceptable if they only work part-time. On the other hand, if they are full-time employees, please pay them at least the level of the SSML. | H12: SSML
A13: COMMENTAIRES Formules | B13: SUJET
A14: Your municipal business tax is 0 because your profit before tax is less than €17,500. | B14: ICC = 0
A15: Your corporate income tax (CIT/IRC) is 14.98% because your profit is less than €175,000. | B15: IRC = 16,05
A16: Your corporate income tax (CIT/IRC) is 17.12% because your profit exceeds €175,000. | B16: IRC = 18,19
A17: If your turnover is less than €112,000, you have to pay and declare VAT on an annual basis. If this is the case, make sure you manage your VAT properly so that you have the funds to pay the collected VAT to the AED. | B17: Versement TVA CA<112K
A18: Subsidies operate on a repayment model, which means that you'll need to set aside enough cash to pay the bills in advance. It's important to note that the business plan is designed to ensure that the activity is self-financing, considering the subsidies as a bonus. It is therefore essential to think about the viability of the business without relying on these financial aids. | B18: Modèle subventions Lux
A22: COMMENTAIRES Sans condition | B22: SUJET
A23: Please note! Please fill in your registration commune in cell C15 of the INPUT sheet. | B23: Commune
A30: LISTES DEROULANTES | G30: Calcul CCSS
A31: Régime TVA | G31: Salaire Minimum | H31: 2570.93 | I31: =H31*12 -> 30851.16 | L31: Cliquez ici pour choisir à l'aide de la liste déroulante | M31: Abattement
A32: Click here to select from the drop-down list | G32: Taux SS | H32: 0.25
A33: Standard scheme | B33: Subject to VAT: the company can charge VAT on sales and deduct it from its purchases from the company | G33: 1/3 du SSM | H33: =H31/3 -> 856.97667 | L33: Société | M33: 17500
A34: Exemption scheme | B34: Not subject to VAT (only valid if sales are under €50K): the company cannot charge VAT on sales, nor deduct it from its purchases from the company. | G34: 5 x le SSM | H34: =H31*5 -> 12854.65 | I34: =H34*12 -> 154255.8
A35: HOE | G35: Cotisations sur SSM | H35: =H31*H32 -> 642.7325
A36: Taux de TVA | B36: 0.17 | G36: Cotisations sur 1/3 du SSM | H36: =+I36+J36 -> 344.50462 | I36: =H33*0.174 -> 149.11394 | J36: =H31*0.076 -> 195.39068
B37: 0.14 | G37: Dépendance | H37: 0.014
B38: 0.08 | G38: Cotisation maximale année 1
B39: 0.03 | G39: Cotisations réelles année 1
B40: 0 | G40: Cotisation maximale année 2
G41: Cotisations réelles année 2
A42: CCSS | G42: Cotisation maximale année 3
A43: Click here to select from the drop-down list | B43: Expliquer indépendant gérant | G43: Cotisations réelles année 3
A44: Standard scheme (based on SSML) | B44: Compulsory for incomes above the Luxembourg minimum wage. This scheme can also be requested by people earning less than the minimum wage, in order to benefit from full coverage.
A45: Reduction scheme | B45: This scheme can be applied for by people earning less than the Luxembourg minimum wage and more than a third of the minimum wage, in order to obtain a reduction in social security contributions based on a reduction in the pension component.
A46: Exemption scheme | B46: This scheme may be requested by people earning less than a third of the Luxembourg minimum wage, in order to avoid paying social security contributions. This can lead to a loss of social protection if the applicant does not benefit from social coverage outside his/her self-employed activity.
A48: Commune et taux d'ICC
A49: Click here to select from the drop-down list | B49: 0
A50: Bascharage | B50: 0.105
...

Sheet Loan Calculator
B1: Simple Loan Calculator
B2: Enter values
B3: Loan amount | E3: ='INPUT - to fill in'!C250 -> 0 | G3: Payment Y1 | H3: =IF(Loan_Years>0,SUM(E13:E24),0) -> 0
B4: Annual interest rate | E4: ='INPUT - to fill in'!C252 -> 0.04 | G4: Interest Y1 | H4: =IF(Loan_Years>0,SUM(G13:G24),0) -> 0
B5: Loan period in years | E5: ='INPUT - to fill in'!C251 -> 5 | G5: Dette Y1 | H5: =IF(Loan_Years>0,D24,0)
B6: Start date of loan | E6: 43466 | G6: Payment Y2 | H6: =IF(Loan_Years>0,SUM(E25:E36),0) -> 0
G7: Interest Y2 | H7: =IF(Loan_Years>0,SUM(G25:G36),0) -> 0
B8: Monthly payment | E8: =IFERROR(IF(Values_Entered,Monthly_Payment,""), "") | G8: Dette Y2 | H8: =IF(Loan_Years>0,D36,0)
B9: Number of payments | E9: =IFERROR(IF(Values_Entered,Loan_Years*12,""), "") | G9: Payment Y3 | H9: =IF(Loan_Years>0,SUM(E37:E48),0) -> 0
B10: Total interest | E10: =IFERROR(IF(Values_Entered,Total_Cost-Loan_Amount,""), "") | G10: Interest Y3 | H10: =IF(Loan_Years>0,SUM(G37:G48),0) -> 0
B11: Total cost of loan | E11: =IFERROR(IF(Values_Entered,Monthly_Payment*Number_of_Payments,""), "") | G11: Dette Y3 | H11: =IF(Loan_Years>0,D48,0)
B12: No. | C12: Payment Date | D12: Beginning Balance | E12: Payment | F12: Principal | G12: Interest | H12: Ending Balance
B13: =IFERROR(IF(Loan_Not_Paid*Values_Entered,Payment_Number,""), "") | C13: =IFERROR(IF(Loan_Not_Paid*Values_Entered,Payment_Date,""), "") | D13: =IFERROR(IF(Loan_Not_Paid*Values_Entered,Beginning_Balance,""), "") | E13: =IFERROR(IF(Loan_Not_Paid*Values_Entered,Monthly_Payment,""), "") | F13: =IFERROR(IF(Loan_Not_Paid*Values_Entered,Principal,""), "") | G13: =IFERROR(IF(Loan_Not_Paid*Values_Entered,Interest,""), "") | H13: =IFERROR(IF(Loan_Not_Paid*Values_Entered,Ending_Balance,""), "")
B14: =IFERROR(IF(Loan_Not_Paid*Values_Entered,Payment_Number,""), "") | C14: =IFERROR(IF(Loan_Not_Paid*Values_Entered,Payment_Date,""), "") | D14: =IFERROR(IF(Loan_Not_Paid*Values_Entered,Beginning_Balance,""), "") | E14: =IFERROR(IF(Loan_Not_Paid*Values_Entered,Monthly_Payment,""), "") | F14: =IFERROR(IF(Loan_Not_Paid*Values_Entered,Principal,""), "") | G14: =IFERROR(IF(Loan_Not_Paid*Values_Entered,Interest,""), "") | H14: =IFERROR(IF(Loan_Not_Paid*Values_Entered,Ending_Balance,""), "")
B15: =IFERROR(IF(Loan_Not_Paid*Values_Entered,Payment_Number,""), "") | C15: =IFERROR(IF(Loan_Not_Paid*Values_Entered,Payment_Date,""), "") | D15: =IFERROR(IF(Loan_Not_Paid*Values_Entered,Beginning_Balance,""), "") | E15: =IFERROR(IF(Loan_Not_Paid*Values_Entered,Monthly_Payment,""), "") | F15: =IFERROR(IF(Loan_Not_Paid*Values_Entered,Principal,""), "") | G15: =IFERROR(IF(Loan_Not_Paid*Values_Entered,Interest,""), "") | H15: =IFERROR(IF(Loan_Not_Paid*Values_Entered,Ending_Balance,""), "")
B16: =IFERROR(IF(Loan_Not_Paid*Values_Entered,Payment_Number,""), "") | C16: =IFERROR(IF(Loan_Not_Paid*Values_Entered,Payment_Date,""), "") | D16: =IFERROR(IF(Loan_Not_Paid*Values_Entered,Beginning_Balance,""), "") | E16: =IFERROR(IF(Loan_Not_Paid*Values_Entered,Monthly_Payment,""), "") | F16: =IFERROR(IF(Loan_Not_Paid*Values_Entered,Principal,""), "") | G16: =IFERROR(IF(Loan_Not_Paid*Values_Entered,Interest,""), "") | H16: =IFERROR(IF(Loan_Not_Paid*Values_Entered,Ending_Balance,""), "")
B17: =IFERROR(IF(Loan_Not_Paid*Values_Entered,Payment_Number,""), "") | C17: =IFERROR(IF(Loan_Not_Paid*Values_Entered,Payment_Date,""), "") | D17: =IFERROR(IF(Loan_Not_Paid*Values_Entered,Beginning_Balance,""), "") | E17: =IFERROR(IF(Loan_Not_Paid*Values_Entered,Monthly_Payment,""), "") | F17: =IFERROR(IF(Loan_Not_Paid*Values_Entered,Principal,""), "") | G17: =IFERROR(IF(Loan_Not_Paid*Values_Entered,Interest,""), "") | H17: =IFERROR(IF(Loan_Not_Paid*Values_Entered,Ending_Balance,""), "")
B18: =IFERROR(IF(Loan_Not_Paid*Values_Entered,Payment_Number,""), "") | C18: =IFERROR(IF(Loan_Not_Paid*Values_Entered,Payment_Date,""), "") | D18: =IFERROR(IF(Loan_Not_Paid*Values_Entered,Beginning_Balance,""), "") | E18: =IFERROR(IF(Loan_Not_Paid*Values_Entered,Monthly_Payment,""), "") | F18: =IFERROR(IF(Loan_Not_Paid*Values_Entered,Principal,""), "") | G18: =IFERROR(IF(Loan_Not_Paid*Values_Entered,Interest,""), "") | H18: =IFERROR(IF(Loan_Not_Paid*Values_Entered,Ending_Balance,""), "")
B19: =IFERROR(IF(Loan_Not_Paid*Values_Entered,Payment_Number,""), "") | C19: =IFERROR(IF(Loan_Not_Paid*Values_Entered,Payment_Date,""), "") | D19: =IFERROR(IF(Loan_Not_Paid*Values_Entered,Beginning_Balance,""), "") | E19: =IFERROR(IF(Loan_Not_Paid*Values_Entered,Monthly_Payment,""), "") | F19: =IFERROR(IF(Loan_Not_Paid*Values_Entered,Principal,""), "") | G19: =IFERROR(IF(Loan_Not_Paid*Values_Entered,Interest,""), "") | H19: =IFERROR(IF(Loan_Not_Paid*Values_Entered,Ending_Balance,""), "")
B20: =IFERROR(IF(Loan_Not_Paid*Values_Entered,Payment_Number,""), "") | C20: =IFERROR(IF(Loan_Not_Paid*Values_Entered,Payment_Date,""), "") | D20: =IFERROR(IF(Loan_Not_Paid*Values_Entered,Beginning_Balance,""), "") | E20: =IFERROR(IF(Loan_Not_Paid*Values_Entered,Monthly_Payment,""), "") | F20: =IFERROR(IF(Loan_Not_Paid*Values_Entered,Principal,""), "") | G20: =IFERROR(IF(Loan_Not_Paid*Values_Entered,Interest,""), "") | H20: =IFERROR(IF(Loan_Not_Paid*Values_Entered,Ending_Balance,""), "")
B21: =IFERROR(IF(Loan_Not_Paid*Values_Entered,Payment_Number,""), "") | C21: =IFERROR(IF(Loan_Not_Paid*Values_Entered,Payment_Date,""), "") | D21: =IFERROR(IF(Loan_Not_Paid*Values_Entered,Beginning_Balance,""), "") | E21: =IFERROR(IF(Loan_Not_Paid*Values_Entered,Monthly_Payment,""), "") | F21: =IFERROR(IF(Loan_Not_Paid*Values_Entered,Principal,""), "") | G21: =IFERROR(IF(Loan_Not_Paid*Values_Entered,Interest,""), "") | H21: =IFERROR(IF(Loan_Not_Paid*Values_Entered,Ending_Balance,""), "")
B22: =IFERROR(IF(Loan_Not_Paid*Values_Entered,Payment_Number,""), "") | C22: =IFERROR(IF(Loan_Not_Paid*Values_Entered,Payment_Date,""), "") | D22: =IFERROR(IF(Loan_Not_Paid*Values_Entered,Beginning_Balance,""), "") | E22: =IFERROR(IF(Loan_Not_Paid*Values_Entered,Monthly_Payment,""), "") | F22: =IFERROR(IF(Loan_Not_Paid*Values_Entered,Principal,""), "") | G22: =IFERROR(IF(Loan_Not_Paid*Values_Entered,Interest,""), "") | H22: =IFERROR(IF(Loan_Not_Paid*Values_Entered,Ending_Balance,""), "")
B23: =IFERROR(IF(Loan_Not_Paid*Values_Entered,Payment_Number,""), "") | C23: =IFERROR(IF(Loan_Not_Paid*Values_Entered,Payment_Date,""), "") | D23: =IFERROR(IF(Loan_Not_Paid*Values_Entered,Beginning_Balance,""), "") | E23: =IFERROR(IF(Loan_Not_Paid*Values_Entered,Monthly_Payment,""), "") | F23: =IFERROR(IF(Loan_Not_Paid*Values_Entered,Principal,""), "") | G23: =IFERROR(IF(Loan_Not_Paid*Values_Entered,Interest,""), "") | H23: =IFERROR(IF(Loan_Not_Paid*Values_Entered,Ending_Balance,""), "")
B24: =IFERROR(IF(Loan_Not_Paid*Values_Entered,Payment_Number,""), "") | C24: =IFERROR(IF(Loan_Not_Paid*Values_Entered,Payment_Date,""), "") | D24: =IFERROR(IF(Loan_Not_Paid*Values_Entered,Beginning_Balance,""), "") | E24: =IFERROR(IF(Loan_Not_Paid*Values_Entered,Monthly_Payment,""), "") | F24: =IFERROR(IF(Loan_Not_Paid*Values_Entered,Principal,""), "") | G24: =IFERROR(IF(Loan_Not_Paid*Values_Entered,Interest,""), "") | H24: =IFERROR(IF(Loan_Not_Paid*Values_Entered,Ending_Balance,""), "")
... B372: =IFERROR(IF(Loan_Not_Paid*Values_Entered,Payment_Number,""), "") | C372: =IFERROR(IF(Loan_Not_Paid*Values_Entered,Payment_Date,""), "") | D372: =IFERROR(IF(Loan_Not_Paid*Values_Entered,Beginning_Balance,""), "") | E372: =IFERROR(IF(Loan_Not_Paid*Values_Entered,Monthly_Payment,""), "") | F372: =IFERROR(IF(Loan_Not_Paid*Values_Entered,Principal,""), "") | G372: =IFERROR(IF(Loan_Not_Paid*Values_Entered,Interest,""), "") | H372: =IFERROR(IF(Loan_Not_Paid*Values_Entered,Ending_Balance,""), "")
